BEGIN:VCALENDAR
VERSION:2.0
PRODID:-//D&amp;A Services | DEI consultancy services in the UK - ECPv6.6.4.2//NONSGML v1.0//EN
CALSCALE:GREGORIAN
METHOD:PUBLISH
X-ORIGINAL-URL:https://daserviceintl.com
X-WR-CALDESC:Events for D&amp;A Services | DEI consultancy services in the UK
REFRESH-INTERVAL;VALUE=DURATION:PT1H
X-Robots-Tag:noindex
X-PUBLISHED-TTL:PT1H
BEGIN:VTIMEZONE
TZID:UTC
BEGIN:STANDARD
TZOFFSETFROM:+0000
TZOFFSETTO:+0000
TZNAME:UTC
DTSTART:20260101T000000
END:STANDARD
END:VTIMEZONE
BEGIN:VEVENT
DTSTART;VALUE=DATE:20260218
DTEND;VALUE=DATE:20260403
DTSTAMP:20260419T134336
CREATED:20260109T093324Z
LAST-MODIFIED:20260109T093411Z
UID:111220-1771372800-1775174399@daserviceintl.com
SUMMARY:Lent (Catholicism)
DESCRIPTION:
URL:https://daserviceintl.com/dei-calendar/lent-catholicism/
CATEGORIES:DEI
END:VEVENT
BEGIN:VEVENT
DTSTART;VALUE=DATE:20260301
DTEND;VALUE=DATE:20260401
DTSTAMP:20260419T134336
CREATED:20260109T093648Z
LAST-MODIFIED:20260109T093648Z
UID:111225-1772323200-1775001599@daserviceintl.com
SUMMARY:Endometriosis Action Month
DESCRIPTION:
URL:https://daserviceintl.com/dei-calendar/endometriosis-action-month-3/
CATEGORIES:DEI
END:VEVENT
BEGIN:VEVENT
DTSTART;VALUE=DATE:20260301
DTEND;VALUE=DATE:20260401
DTSTAMP:20260419T134336
CREATED:20260109T093713Z
LAST-MODIFIED:20260109T093713Z
UID:111226-1772323200-1775001599@daserviceintl.com
SUMMARY:Long COVID Awareness Month
DESCRIPTION:
URL:https://daserviceintl.com/dei-calendar/long-covid-awareness-month/
CATEGORIES:DEI
END:VEVENT
BEGIN:VEVENT
DTSTART;VALUE=DATE:20260330
DTEND;VALUE=DATE:20260331
DTSTAMP:20260419T134336
CREATED:20260109T094723Z
LAST-MODIFIED:20260109T094723Z
UID:111245-1774828800-1774915199@daserviceintl.com
SUMMARY:World Bipolar Day
DESCRIPTION:
URL:https://daserviceintl.com/dei-calendar/world-bipolar-day-3/
CATEGORIES:DEI
END:VEVENT
END:VCALENDAR